BEGIN:VCALENDAR
VERSION:2.0
PRODID:-//Lisa E. Wilcox - ECPv6.15.15//NONSGML v1.0//EN
CALSCALE:GREGORIAN
METHOD:PUBLISH
X-WR-CALNAME:Lisa E. Wilcox
X-ORIGINAL-URL:https://lisaewilcox.com
X-WR-CALDESC:Events for Lisa E. Wilcox
REFRESH-INTERVAL;VALUE=DURATION:PT1H
X-Robots-Tag:noindex
X-PUBLISHED-TTL:PT1H
BEGIN:VTIMEZONE
TZID:UTC
BEGIN:STANDARD
TZOFFSETFROM:+0000
TZOFFSETTO:+0000
TZNAME:UTC
DTSTART:20250101T000000
END:STANDARD
END:VTIMEZONE
BEGIN:VEVENT
DTSTART;TZID=UTC:20260425T120000
DTEND;TZID=UTC:20260425T160000
DTSTAMP:20260425T154903
CREATED:20260423T225612Z
LAST-MODIFIED:20260423T232151Z
UID:3372-1777118400-1777132800@lisaewilcox.com
SUMMARY:Tom Devlin's Monster Museum April 25 2026 Boulder City Nevada
DESCRIPTION: Tom Devlin’s Monster Museum\nBoulder City\, Nevada\nApril 25th\, 2026\n 12-4pm\nGet Tickets
URL:https://lisaewilcox.com/event/tom-devlins-monster-museum-april-25-2026-boulder-city-nevada
LOCATION:Tom Devlins Monster Museum\, 1310 Boulder City Pkwy\, Boulder City\, NV\, 89005\, United States
END:VEVENT
END:VCALENDAR