BEGIN:VCALENDAR
VERSION:2.0
PRODID:-//Lisa E. Wilcox - ECPv6.15.15//NONSGML v1.0//EN
CALSCALE:GREGORIAN
METHOD:PUBLISH
X-WR-CALNAME:Lisa E. Wilcox
X-ORIGINAL-URL:https://lisaewilcox.com
X-WR-CALDESC:Events for Lisa E. Wilcox
REFRESH-INTERVAL;VALUE=DURATION:PT1H
X-Robots-Tag:noindex
X-PUBLISHED-TTL:PT1H
BEGIN:VTIMEZONE
TZID:UTC
BEGIN:STANDARD
TZOFFSETFROM:+0000
TZOFFSETTO:+0000
TZNAME:UTC
DTSTART:20210101T000000
END:STANDARD
END:VTIMEZONE
BEGIN:VTIMEZONE
TZID:America/Chicago
BEGIN:DAYLIGHT
TZOFFSETFROM:-0600
TZOFFSETTO:-0500
TZNAME:CDT
DTSTART:20210314T080000
END:DAYLIGHT
BEGIN:STANDARD
TZOFFSETFROM:-0500
TZOFFSETTO:-0600
TZNAME:CST
DTSTART:20211107T070000
END:STANDARD
BEGIN:DAYLIGHT
TZOFFSETFROM:-0600
TZOFFSETTO:-0500
TZNAME:CDT
DTSTART:20220313T080000
END:DAYLIGHT
BEGIN:STANDARD
TZOFFSETFROM:-0500
TZOFFSETTO:-0600
TZNAME:CST
DTSTART:20221106T070000
END:STANDARD
BEGIN:DAYLIGHT
TZOFFSETFROM:-0600
TZOFFSETTO:-0500
TZNAME:CDT
DTSTART:20230312T080000
END:DAYLIGHT
BEGIN:STANDARD
TZOFFSETFROM:-0500
TZOFFSETTO:-0600
TZNAME:CST
DTSTART:20231105T070000
END:STANDARD
BEGIN:DAYLIGHT
TZOFFSETFROM:-0600
TZOFFSETTO:-0500
TZNAME:CDT
DTSTART:20240310T080000
END:DAYLIGHT
BEGIN:STANDARD
TZOFFSETFROM:-0500
TZOFFSETTO:-0600
TZNAME:CST
DTSTART:20241103T070000
END:STANDARD
BEGIN:DAYLIGHT
TZOFFSETFROM:-0600
TZOFFSETTO:-0500
TZNAME:CDT
DTSTART:20250309T080000
END:DAYLIGHT
BEGIN:STANDARD
TZOFFSETFROM:-0500
TZOFFSETTO:-0600
TZNAME:CST
DTSTART:20251102T070000
END:STANDARD
END:VTIMEZONE
BEGIN:VTIMEZONE
TZID:America/New_York
BEGIN:DAYLIGHT
TZOFFSETFROM:-0500
TZOFFSETTO:-0400
TZNAME:EDT
DTSTART:20200308T070000
END:DAYLIGHT
BEGIN:STANDARD
TZOFFSETFROM:-0400
TZOFFSETTO:-0500
TZNAME:EST
DTSTART:20201101T060000
END:STANDARD
BEGIN:DAYLIGHT
TZOFFSETFROM:-0500
TZOFFSETTO:-0400
TZNAME:EDT
DTSTART:20210314T070000
END:DAYLIGHT
BEGIN:STANDARD
TZOFFSETFROM:-0400
TZOFFSETTO:-0500
TZNAME:EST
DTSTART:20211107T060000
END:STANDARD
BEGIN:DAYLIGHT
TZOFFSETFROM:-0500
TZOFFSETTO:-0400
TZNAME:EDT
DTSTART:20220313T070000
END:DAYLIGHT
BEGIN:STANDARD
TZOFFSETFROM:-0400
TZOFFSETTO:-0500
TZNAME:EST
DTSTART:20221106T060000
END:STANDARD
BEGIN:DAYLIGHT
TZOFFSETFROM:-0500
TZOFFSETTO:-0400
TZNAME:EDT
DTSTART:20230312T070000
END:DAYLIGHT
BEGIN:STANDARD
TZOFFSETFROM:-0400
TZOFFSETTO:-0500
TZNAME:EST
DTSTART:20231105T060000
END:STANDARD
BEGIN:DAYLIGHT
TZOFFSETFROM:-0500
TZOFFSETTO:-0400
TZNAME:EDT
DTSTART:20240310T070000
END:DAYLIGHT
BEGIN:STANDARD
TZOFFSETFROM:-0400
TZOFFSETTO:-0500
TZNAME:EST
DTSTART:20241103T060000
END:STANDARD
BEGIN:DAYLIGHT
TZOFFSETFROM:-0500
TZOFFSETTO:-0400
TZNAME:EDT
DTSTART:20250309T070000
END:DAYLIGHT
BEGIN:STANDARD
TZOFFSETFROM:-0400
TZOFFSETTO:-0500
TZNAME:EST
DTSTART:20251102T060000
END:STANDARD
END:VTIMEZONE
BEGIN:VTIMEZONE
TZID:America/Los_Angeles
BEGIN:DAYLIGHT
TZOFFSETFROM:-0800
TZOFFSETTO:-0700
TZNAME:PDT
DTSTART:20200308T100000
END:DAYLIGHT
BEGIN:STANDARD
TZOFFSETFROM:-0700
TZOFFSETTO:-0800
TZNAME:PST
DTSTART:20201101T090000
END:STANDARD
BEGIN:DAYLIGHT
TZOFFSETFROM:-0800
TZOFFSETTO:-0700
TZNAME:PDT
DTSTART:20210314T100000
END:DAYLIGHT
BEGIN:STANDARD
TZOFFSETFROM:-0700
TZOFFSETTO:-0800
TZNAME:PST
DTSTART:20211107T090000
END:STANDARD
BEGIN:DAYLIGHT
TZOFFSETFROM:-0800
TZOFFSETTO:-0700
TZNAME:PDT
DTSTART:20220313T100000
END:DAYLIGHT
BEGIN:STANDARD
TZOFFSETFROM:-0700
TZOFFSETTO:-0800
TZNAME:PST
DTSTART:20221106T090000
END:STANDARD
BEGIN:DAYLIGHT
TZOFFSETFROM:-0800
TZOFFSETTO:-0700
TZNAME:PDT
DTSTART:20230312T100000
END:DAYLIGHT
BEGIN:STANDARD
TZOFFSETFROM:-0700
TZOFFSETTO:-0800
TZNAME:PST
DTSTART:20231105T090000
END:STANDARD
BEGIN:DAYLIGHT
TZOFFSETFROM:-0800
TZOFFSETTO:-0700
TZNAME:PDT
DTSTART:20240310T100000
END:DAYLIGHT
BEGIN:STANDARD
TZOFFSETFROM:-0700
TZOFFSETTO:-0800
TZNAME:PST
DTSTART:20241103T090000
END:STANDARD
BEGIN:DAYLIGHT
TZOFFSETFROM:-0800
TZOFFSETTO:-0700
TZNAME:PDT
DTSTART:20250309T100000
END:DAYLIGHT
BEGIN:STANDARD
TZOFFSETFROM:-0700
TZOFFSETTO:-0800
TZNAME:PST
DTSTART:20251102T090000
END:STANDARD
END:VTIMEZONE
BEGIN:VTIMEZONE
TZID:Europe/Berlin
BEGIN:DAYLIGHT
TZOFFSETFROM:+0100
TZOFFSETTO:+0200
TZNAME:CEST
DTSTART:20210328T010000
END:DAYLIGHT
BEGIN:STANDARD
TZOFFSETFROM:+0200
TZOFFSETTO:+0100
TZNAME:CET
DTSTART:20211031T010000
END:STANDARD
BEGIN:DAYLIGHT
TZOFFSETFROM:+0100
TZOFFSETTO:+0200
TZNAME:CEST
DTSTART:20220327T010000
END:DAYLIGHT
BEGIN:STANDARD
TZOFFSETFROM:+0200
TZOFFSETTO:+0100
TZNAME:CET
DTSTART:20221030T010000
END:STANDARD
BEGIN:DAYLIGHT
TZOFFSETFROM:+0100
TZOFFSETTO:+0200
TZNAME:CEST
DTSTART:20230326T010000
END:DAYLIGHT
BEGIN:STANDARD
TZOFFSETFROM:+0200
TZOFFSETTO:+0100
TZNAME:CET
DTSTART:20231029T010000
END:STANDARD
END:VTIMEZONE
BEGIN:VEVENT
DTSTART;TZID=UTC:20250509T080000
DTEND;TZID=UTC:20250511T170000
DTSTAMP:20260422T020304
CREATED:20250618T203004Z
LAST-MODIFIED:20250618T203004Z
UID:3276-1746777600-1746982800@lisaewilcox.com
SUMMARY:Shock Stock May 9-11 2025 London Ontario Canada
DESCRIPTION:Shock Stock \nMay 9-11 2025 \nLondon Ontario Canada
URL:https://lisaewilcox.com/event/shock-stock-may-9-11-2025-london-ontario-canada
LOCATION:CA
END:VEVENT
BEGIN:VEVENT
DTSTART;TZID=America/Chicago:20241026T120000
DTEND;TZID=America/Chicago:20241027T010000
DTSTAMP:20260422T020304
CREATED:20240912T194433Z
LAST-MODIFIED:20240912T201306Z
UID:3211-1729944000-1729990800@lisaewilcox.com
SUMMARY:Houston Horror Film Festival Saturday October 26 2024
DESCRIPTION:Houston Horror Film Festival\nWildcatter Saloon\n26913 Katy Freeway Katy\, TX 77494\nSaturday October 26 2024 – Sunday October 27 2024\n12PM -1AM\nFor Tickets\, visit here. \n 
URL:https://lisaewilcox.com/event/houston-horror-film-festival-saturday-october-26-2024
LOCATION:Wildcatter Saloon\, 26913 Katy Freeway\, Katy\, TX\, 77494\, United States
END:VEVENT
BEGIN:VEVENT
DTSTART;TZID=America/Chicago:20241011T170000
DTEND;TZID=America/Chicago:20241012T235000
DTSTAMP:20260422T020304
CREATED:20240912T192408Z
LAST-MODIFIED:20240912T202027Z
UID:3206-1728666000-1728777000@lisaewilcox.com
SUMMARY:HalloweenaPalooza Ottumwa Iowa October 11 - 12 2024
DESCRIPTION:HalloweenaPalooza Film Festival\n \nOttumwa\, 102 Church St\,\nOttumwa\, Iowa 52501\nFriday October 11 –  Saturday 12 2024\n5PM – 11:30pm\nFor Tickets\, visit: https://www.halloweenapalooza.com/event-details/tickets
URL:https://lisaewilcox.com/event/halloweenapalooza-ottumwa-iowa-october-11-12-2024
LOCATION:CA
ATTACH;FMTTYPE=image/jpeg:https://lisaewilcox.com/wp-content/uploads/2024/09/Halloweenpalooza-2024-Lisa-Wilcox.jpg
END:VEVENT
BEGIN:VEVENT
DTSTART;TZID=UTC:20241005T120000
DTEND;TZID=UTC:20241005T120000
DTSTAMP:20260422T020304
CREATED:20240912T185334Z
LAST-MODIFIED:20241005T011554Z
UID:3201-1728129600-1728129600@lisaewilcox.com
SUMMARY:NEPA Horror Fest 2024 Scranton PA October 5 2024
DESCRIPTION:NEPA Horror Fest 2024\n \nCircle Drive-In\n1911 Scranton Carbondale Highway\nDickson City\, Scranton\, PA 18508\nSaturday\, October 5 2024\nFor tickets\, visit: https://www.nepahorrorfest.com/ \n 
URL:https://lisaewilcox.com/event/nepa-horror-fest-2024-scranton-pa-october-5-2024
LOCATION:Circle Drive-In\, 1911 Scranton Carbondale Highway\, Dickson City\, Scranton\, PA\, 18508\, United States
ATTACH;FMTTYPE=image/jpeg:https://lisaewilcox.com/wp-content/uploads/2024/09/NEPA-Horror-Fest-2024-Lisa-Wilcox.jpg
END:VEVENT
BEGIN:VEVENT
DTSTART;TZID=America/New_York:20240928T080000
DTEND;TZID=America/New_York:20240929T233000
DTSTAMP:20260422T020304
CREATED:20240912T184111Z
LAST-MODIFIED:20240912T203231Z
UID:3196-1727510400-1727652600@lisaewilcox.com
SUMMARY:Haunted Screams Expo Hampton Virginia September 28 - 29 2024
DESCRIPTION:Haunted Screams Expo\n \nHampton Roads Convention Center\n1610 Coliseum Drive\, Hampton\, Virginia\, 23666\nSaturday September 28 – Sunday 29 2024\n  \nFor tickets\, visit: https://www.tixtree.com/e/haunted-screams-expo-510eb87a5fa7 \n  \n 
URL:https://lisaewilcox.com/event/haunted-screams-expo-hampton-virginia-september-28-29-2024
LOCATION:Hampton Roads Convention Center\, 1610 Coliseum Drive\, Hampton\, VA\, 23666\, United States
ATTACH;FMTTYPE=image/jpeg:https://lisaewilcox.com/wp-content/uploads/2024/09/Haunted-Screams-Festival-2024-Lisa-Wilcox-1.jpg
END:VEVENT
BEGIN:VEVENT
DTSTART;TZID=America/Chicago:20240922T140000
DTEND;TZID=America/Chicago:20240922T170000
DTSTAMP:20260422T020304
CREATED:20240912T182845Z
LAST-MODIFIED:20240912T182845Z
UID:3191-1727013600-1727024400@lisaewilcox.com
SUMMARY:Fantastic Fest Film Festival Austin Texas Sep 22 2024
DESCRIPTION:Fantastic Fest Film Festival\nAustin\, TX\nSunday September 22\, 2024\n\nThe premiere of “What Happened To Dorothy Bell?”\nShow at 2pm\, Sunday\, September 22\n\nFor Tickets\, visit: https://www.fantasticfest.com/
URL:https://lisaewilcox.com/event/fantastic-fest-film-festival-austin-texas-sep-22-2024
LOCATION:Alamo Drafthouse\, 1120 S Lamar Blvd\, Austin\, TX\, 78704\, United States
END:VEVENT
BEGIN:VEVENT
DTSTART;TZID=America/Los_Angeles:20240913T140000
DTEND;TZID=America/Los_Angeles:20240913T220000
DTSTAMP:20260422T020304
CREATED:20240912T181822Z
LAST-MODIFIED:20240912T201928Z
UID:3185-1726236000-1726264800@lisaewilcox.com
SUMMARY:Crypticon Minneapolis\, MN September 13 -15 2024
DESCRIPTION:Crypticon Minneapolis\n \nFriday September 13 – Sunday September 15 2024\nFor tickets visit: https://www.crypticonminneapolis.com/tickets.html
URL:https://lisaewilcox.com/event/crypticon-minneapolis-september-13-15-2024
LOCATION:Crypticon\, Crowne Plaza West Hotel & Conference Center 3131 Campus Dr\, Plymouth\, MN\, 55441
ATTACH;FMTTYPE=image/jpeg:https://lisaewilcox.com/wp-content/uploads/2024/09/Crypticon-LISA-WILCOX-2024.jpg
END:VEVENT
BEGIN:VEVENT
DTSTART;TZID=UTC:20231202T080000
DTEND;TZID=UTC:20231202T220000
DTSTAMP:20260422T020304
CREATED:20231025T091843Z
LAST-MODIFIED:20231025T091913Z
UID:3145-1701504000-1701554400@lisaewilcox.com
SUMMARY:The Vintage Vault of Upland
DESCRIPTION:The Vintage Vault of Upland\nSaturday\, December 2\, 2023\nUpland\, CA\nFor tickets\, visit: https://www.vaultofupland.com/
URL:https://lisaewilcox.com/event/the-vintage-vault-of-upland
LOCATION:CA
ATTACH;FMTTYPE=image/jpeg:https://lisaewilcox.com/wp-content/uploads/2023/10/vintage-vault-of-upland-danny-hassel-lisa-wilcox-dec-2-2023.jpg
END:VEVENT
BEGIN:VEVENT
DTSTART;TZID=UTC:20231101T080000
DTEND;TZID=UTC:20231102T170000
DTSTAMP:20260422T020304
CREATED:20230630T233001Z
LAST-MODIFIED:20230630T233001Z
UID:3100-1698825600-1698944400@lisaewilcox.com
SUMMARY:Demon Hunter and Demon Hunter Time 2 Kill Double Feature
DESCRIPTION:Demon Hunter and Demon Hunter Time 2 Kill Double Feature\nNovember 2023\n 
URL:https://lisaewilcox.com/event/demon-hunter-and-demon-hunter-time-2-kill-double-feature
LOCATION:CA
END:VEVENT
BEGIN:VEVENT
DTSTART;TZID=UTC:20231027T080000
DTEND;TZID=UTC:20231029T170000
DTSTAMP:20260422T020304
CREATED:20231016T004746Z
LAST-MODIFIED:20231016T173412Z
UID:3118-1698393600-1698598800@lisaewilcox.com
SUMMARY:Spooky Empire October 27 2023
DESCRIPTION:Spooky Empire October 27 -29 2023\nHyatt Regency\nOrlando\, FL\nwww.spookyempire.com
URL:https://lisaewilcox.com/event/spooky-empire-october-27-2023
LOCATION:CA
ATTACH;FMTTYPE=image/jpeg:https://lisaewilcox.com/wp-content/uploads/2023/10/Spooky-Empire-Orlando-FL-2023.jpg
END:VEVENT
BEGIN:VEVENT
DTSTART;TZID=UTC:20231021T190000
DTEND;TZID=UTC:20231021T220000
DTSTAMP:20260422T020304
CREATED:20231016T005456Z
LAST-MODIFIED:20231020T235441Z
UID:3124-1697914800-1697925600@lisaewilcox.com
SUMMARY:Halloween Hotness Saddle Up St. Jude Hospital Charity Oct 21 2023 Hollywood
DESCRIPTION:October 21\nHalloween Hotness\nSaint Jude Children’s Hospital Charity Event\nMadame Tussauds Hollywood\nHollywood\, CA\nTickets
URL:https://lisaewilcox.com/event/halloween-hotness-saddle-up-st-judes-hospital-charity-oct-21-2023-hollywood
LOCATION:CA
ATTACH;FMTTYPE=image/jpeg:https://lisaewilcox.com/wp-content/uploads/2023/10/madame-tussauds-st-judes-charity-event-lisa-wilcox-halloween-hotness-2023-2.jpg
END:VEVENT
BEGIN:VEVENT
DTSTART;VALUE=DATE:20231014
DTEND;VALUE=DATE:20231016
DTSTAMP:20260422T020304
CREATED:20230630T234806Z
LAST-MODIFIED:20230630T234806Z
UID:3104-1697241600-1697414399@lisaewilcox.com
SUMMARY:Halloween Xspo 2023
DESCRIPTION:Halloween Xspo\nOctober 14 – 15\, 2023\nSpokane\, WA\nFor tickets\, visit: https://www.halloweenxspo.com/
URL:https://lisaewilcox.com/event/halloween-xspo-2023
LOCATION:CA
END:VEVENT
BEGIN:VEVENT
DTSTART;VALUE=DATE:20231006
DTEND;VALUE=DATE:20231008
DTSTAMP:20260422T020304
CREATED:20230630T232223Z
LAST-MODIFIED:20230630T232223Z
UID:3093-1696550400-1696723199@lisaewilcox.com
SUMMARY:Everhaunt 2023
DESCRIPTION:Everhaunt\nOctober 6 – 7\, 2023\nAngola\, NY\nFor tickets\, visit: https://everhaunt.com/
URL:https://lisaewilcox.com/event/everhaunt-2023
LOCATION:CA
END:VEVENT
BEGIN:VEVENT
DTSTART;TZID=UTC:20230915T080000
DTEND;TZID=UTC:20230917T170000
DTSTAMP:20260422T020304
CREATED:20230630T231740Z
LAST-MODIFIED:20230630T231740Z
UID:3086-1694764800-1694970000@lisaewilcox.com
SUMMARY:Terror Con 2023
DESCRIPTION:Terror Con\nSeptember 15 – 17\, 2023\nRoyal Plaza Trade Center\nMarlborough\, MA\nFor tickets\, visit: https://store.epicphotoops.com/terror-con/2023/lisa-wilcox
URL:https://lisaewilcox.com/event/terror-con-2023
LOCATION:CA
END:VEVENT
BEGIN:VEVENT
DTSTART;TZID=UTC:20230818T080000
DTEND;TZID=UTC:20230820T170000
DTSTAMP:20260422T020304
CREATED:20230630T231212Z
LAST-MODIFIED:20230630T231337Z
UID:3081-1692345600-1692550800@lisaewilcox.com
SUMMARY:HorrorHound Weekend 2023
DESCRIPTION:Horror Hound Weekend\nAugust 18 – 20\, 2023\nIndiana Convention Center\nIndianapolis\, IN\nFor tickets\, visit: https://horrorhoundweekend.com/shows/202308/default.shtml
URL:https://lisaewilcox.com/event/horrorhound-weekend-2023
LOCATION:CA
ATTACH;FMTTYPE=image/jpeg:https://lisaewilcox.com/wp-content/uploads/2023/06/HHW202308-LisaWilcox.jpg
END:VEVENT
BEGIN:VEVENT
DTSTART;VALUE=DATE:20230602
DTEND;VALUE=DATE:20230605
DTSTAMP:20260422T020304
CREATED:20221203T220330Z
LAST-MODIFIED:20221203T220446Z
UID:2910-1685664000-1685923199@lisaewilcox.com
SUMMARY:Monsterpalooza 2023
DESCRIPTION:Monsterpalooza\nJune 2 -4\, 2023\nPasadena\, CA\nFor tickets\, visit: http://www.monsterpalooza.com/spring/
URL:https://lisaewilcox.com/event/monsterpalooza2023
LOCATION:CA
END:VEVENT
BEGIN:VEVENT
DTSTART;TZID=UTC:20230506T080000
DTEND;TZID=UTC:20230507T170000
DTSTAMP:20260422T020304
CREATED:20230503T232630Z
LAST-MODIFIED:20230503T233050Z
UID:3069-1683360000-1683478800@lisaewilcox.com
SUMMARY:King | Queens of Horror 2023
DESCRIPTION:King | Queens of Horror\nMay 6 – 7\, 2023\nSan Antonio\, TX\nFor tickets\, visit: https://www.socialrevoltstore.com/product-page/lisa-wilcox-meet-greet
URL:https://lisaewilcox.com/event/queens-of-horror-2023
LOCATION:CA
ATTACH;FMTTYPE=image/jpeg:https://lisaewilcox.com/wp-content/uploads/2023/05/queens-of-horror-2023-lisa-wilcox.jpg
END:VEVENT
BEGIN:VEVENT
DTSTART;TZID=America/New_York:20230114T190000
DTEND;TZID=America/New_York:20230114T230000
DTSTAMP:20260422T020304
CREATED:20230114T125617Z
LAST-MODIFIED:20230114T125657Z
UID:3045-1673722800-1673737200@lisaewilcox.com
SUMMARY:Full Moon Cineplex Screening Nashville TN
DESCRIPTION:Full Moon Cineplex Screening\nJanuary 14\, 2023\nNashville\, TN\nReunion From Hell 2 and A Nightmare on Elm Street 4 Screening with Danny Hassel and Lisa Wilcox in Attendance \nAutograph Session at 5pm \nScreenings starts at 7pm \nFor tickets\, visit: https://fullmooncineplex.com/showtimes
URL:https://lisaewilcox.com/event/full-moon-cineplex-screening-nashville-tn
LOCATION:CA
ATTACH;FMTTYPE=image/jpeg:https://lisaewilcox.com/wp-content/uploads/2023/01/Full-Moon-Complex-Lisa-Wilcox-January-14th-2023.jpg
END:VEVENT
BEGIN:VEVENT
DTSTART;VALUE=DATE:20221222
DTEND;VALUE=DATE:20221223
DTSTAMP:20260422T020304
CREATED:20221203T214829Z
LAST-MODIFIED:20221203T215026Z
UID:2901-1671667200-1671753599@lisaewilcox.com
SUMMARY:Vinyl Pharmacy Records and Music
DESCRIPTION:Vinyl Pharmacy Records and Music\nDecember 22\, 2022\nPalm Springs\, CA\n  \nFor tickets\, visit: https://www.vinylpharmacy.com/
URL:https://lisaewilcox.com/event/vinyl-pharmacy-records-and-music
LOCATION:CA
END:VEVENT
BEGIN:VEVENT
DTSTART;VALUE=DATE:20221214
DTEND;VALUE=DATE:20221215
DTSTAMP:20260422T020304
CREATED:20221203T215909Z
LAST-MODIFIED:20221203T220114Z
UID:2907-1670976000-1671062399@lisaewilcox.com
SUMMARY:The Full Moon Complex
DESCRIPTION:The Full Moon Complex\nJanuary 14\, 2023\nNashville\, TN\nReunion From Hell 2 and autograph signing along with Danny Hassel. \nFor tickets\, visit: https://fullmooncineplex.com/
URL:https://lisaewilcox.com/event/the-full-moon-complex
LOCATION:CA
END:VEVENT
BEGIN:VEVENT
DTSTART;VALUE=DATE:20221203
DTEND;VALUE=DATE:20221205
DTSTAMP:20260422T020304
CREATED:20221203T214609Z
LAST-MODIFIED:20221203T214625Z
UID:2897-1670025600-1670198399@lisaewilcox.com
SUMMARY:German Comic Con
DESCRIPTION:German Comic Con\nDecember 3 -4\, 2022\nDortmund\, Germany\n  \nFor tickets\, visit: https://germancomiccon.com/
URL:https://lisaewilcox.com/event/german-comic-con
LOCATION:CA
END:VEVENT
BEGIN:VEVENT
DTSTART;TZID=UTC:20221021T080000
DTEND;TZID=UTC:20221023T170000
DTSTAMP:20260422T020304
CREATED:20220722T200621Z
LAST-MODIFIED:20220722T210010Z
UID:2654-1666339200-1666544400@lisaewilcox.com
SUMMARY:Scarefest Lexington Kentucky
DESCRIPTION:Scarefest Lexington Kentucky\nOctober 21 -23\, 2022\nLexington\, KY\n  \nFor tickets\, visit: https://scarefestweekend.com/home/tickets/
URL:https://lisaewilcox.com/event/scarefest-lexington-kentucky
LOCATION:CA
ATTACH;FMTTYPE=image/jpeg:https://lisaewilcox.com/wp-content/uploads/2022/07/Scarefest-Lisa-Wilcox-Lexington-KY-2022.jpg
END:VEVENT
BEGIN:VEVENT
DTSTART;TZID=UTC:20221008T080000
DTEND;TZID=UTC:20221008T170000
DTSTAMP:20260422T020304
CREATED:20220722T200335Z
LAST-MODIFIED:20220923T233712Z
UID:2651-1665216000-1665248400@lisaewilcox.com
SUMMARY:The Majestic Theater (Phoenix)
DESCRIPTION:The Majestic Theater (Phoenix)\nOctober 8\, 2022\nTempe\, AZ\nShowing a Nightmare on Elm Street 4 & 5 \n  \nFor tickets\, visit: https://www.majesticphx.com/movie/A-NIGHTMARE-ON-ELM-STREET-4–5-with-Lisa-Wilcox-Live
URL:https://lisaewilcox.com/event/the-majestic-theater-phoenix
LOCATION:CA
ATTACH;FMTTYPE=image/jpeg:https://lisaewilcox.com/wp-content/uploads/2022/07/Majestic-Phoenix-October-8-2022.jpg
END:VEVENT
BEGIN:VEVENT
DTSTART;TZID=UTC:20221005T190000
DTEND;TZID=UTC:20221006T190000
DTSTAMP:20260422T020304
CREATED:20220722T200139Z
LAST-MODIFIED:20220924T000613Z
UID:2645-1664996400-1665082800@lisaewilcox.com
SUMMARY:Balboa Theatre 2022
DESCRIPTION:Balboa Theatre\nOctober 5 -6\, 2022\nSan Francisco\, CA\n7PM on both nights\nShowing a Nightmare on Elm Street 4 and Lisa Wilcox will be there in person. \nFor Tickets\, visit: https://www.balboamovies.com/calendar-of-events/a-nightmare-on-elm-street-4-the-dream-master-w-lisa-wilcox-in-person
URL:https://lisaewilcox.com/event/2645
LOCATION:CA
ATTACH;FMTTYPE=image/jpeg:https://lisaewilcox.com/wp-content/uploads/2022/07/Balboa-Theater-Cinema-SF-October-5-6-2022-Lisa-Wilcox.jpg
END:VEVENT
BEGIN:VEVENT
DTSTART;TZID=America/Los_Angeles:20220924T100000
DTEND;TZID=America/Los_Angeles:20220925T180000
DTSTAMP:20260422T020304
CREATED:20220923T232530Z
LAST-MODIFIED:20220923T233209Z
UID:2766-1664013600-1664128800@lisaewilcox.com
SUMMARY:Fantastic Indoor Mall Las Vegas
DESCRIPTION:Fantastic Indoor Mall Las Vegas\nSeptember 24 -25\, 2022\n1717 S. Decatur Blvd.\nLas Vegas\, Nevada 89102\nLas Vegas\, NV\n10am – 6pm \nBooth 22/23 \n  \nFor info visit: https://fantasticindoorswapmeet.com/
URL:https://lisaewilcox.com/event/fantastic-indoor-mall-las-vegas
LOCATION:CA
ATTACH;FMTTYPE=image/jpeg:https://lisaewilcox.com/wp-content/uploads/2022/09/Fantastic-Indoor-Mall-Sep-24-25-Las-Vegas-Lisa-Wilcox.jpg
END:VEVENT
BEGIN:VEVENT
DTSTART;TZID=UTC:20220825T080000
DTEND;TZID=UTC:20220831T170000
DTSTAMP:20260422T020304
CREATED:20220722T195849Z
LAST-MODIFIED:20220722T204059Z
UID:2641-1661414400-1661965200@lisaewilcox.com
SUMMARY:Star Trek Convention 2022
DESCRIPTION:Star Trek Convention 2022\nAugust 25 -28\, 2022\nLas Vegas\, NV\nBally’s Hotel & Casino\n  \nFor tickets\, visit: https://www.creationent.com/cal/cemission_lv.html
URL:https://lisaewilcox.com/event/star-trek-convention-2022
LOCATION:CA
ATTACH;FMTTYPE=image/jpeg:https://lisaewilcox.com/wp-content/uploads/2022/07/Star-Trek-Convention-Lisa-Wilcox-August-25-28-2022.jpg
END:VEVENT
BEGIN:VEVENT
DTSTART;TZID=America/Chicago:20220805T080000
DTEND;TZID=America/Chicago:20220807T170000
DTSTAMP:20260422T020304
CREATED:20220722T195606Z
LAST-MODIFIED:20220722T202459Z
UID:2638-1659686400-1659891600@lisaewilcox.com
SUMMARY:Flashback Weekend Chicago 2022
DESCRIPTION:Flashback Weekend Chicago 2022\nAugust 5-7\, 2022\nHyatt Regency\nRosemount\, IL\, 60018\nFor tickets\, visit: http://www.flashbackweekend.com/tickets.html \n 
URL:https://lisaewilcox.com/event/flashback-weekend-chicago-2022
LOCATION:CA
ATTACH;FMTTYPE=image/jpeg:https://lisaewilcox.com/wp-content/uploads/2022/07/Flashback-Weekend-Chicago-Lisa-Wilcox-August-5-7-2022.jpg
END:VEVENT
BEGIN:VEVENT
DTSTART;VALUE=DATE:20211119
DTEND;VALUE=DATE:20211122
DTSTAMP:20260422T020304
CREATED:20210914T100554Z
LAST-MODIFIED:20211104T044908Z
UID:2293-1637280000-1637539199@lisaewilcox.com
SUMMARY:New England Super Mega Fest 2021
DESCRIPTION:New England Super Mega Fest\nNovember 19 -21\, 2021\nFramingham\, MA\nSheraton Framingham Hotel & Conference Center\n1657 Worcester Rd\, Framingham\, MA 01701\nHours \nNovember 19 Fri 3:30pm – 9pm\nNovember 20 Sat 10:30am – 6pm\nNovember 21 Sun 10:30am – 5pm \nFor tickets\, visit: https://supermegashow.ticketleap.com/super-mega-fest-comic-con/
URL:https://lisaewilcox.com/event/new-england-super-mega-fest-2021
LOCATION:CA
ATTACH;FMTTYPE=image/jpeg:https://lisaewilcox.com/wp-content/uploads/2021/09/Super-Mega-Fest-Lisa-Wilcox-November-19-21-2021.jpg
END:VEVENT
BEGIN:VEVENT
DTSTART;TZID=America/Los_Angeles:20211030T090000
DTEND;TZID=America/Los_Angeles:20211030T210000
DTSTAMP:20260422T020304
CREATED:20210914T095343Z
LAST-MODIFIED:20210915T082751Z
UID:2287-1635584400-1635627600@lisaewilcox.com
SUMMARY:Scare Faire 2021
DESCRIPTION:Scare Faire 2021\nOctober 30\, 2021\nVictorville\, CA\nSan Bernardino Fairgrounds\n14800 Seventh Street\nVictorville\, CA 92395\nWelcome back\, High Desert! After we were told it could not happen\, not only did it happen\, we’re doing it again\, but this time with a Horror/Halloween theme! This year our event is scheduled for October 30\, 2021. The General Public doors open at 9:00 AM and will carry on until 6:00 PM (unless you have the VIP Pass and it will end at 9:00 PM). Attendees can expect many things to enjoy with vendors\, celebrities\, comic dealers\, toys & Collectibles\, costumes\, clothing\, cosplayers and contest\, live music\, Q&As\, and much more! \nJayZoMon’s PCE: Scarefaire is what we are calling it this year\, is all about you–the People of the High Desert and not having to travel one to three hours to attend a convention! If you love comics\, games\, toys\, film\, movies\, horror\, and Halloween culture\, join us in fun! We’ll be waiting to see you! \nFor tickets\, visit: https://www.jayzomonspopcultureexpo.com/
URL:https://lisaewilcox.com/event/scare-faire-2021
LOCATION:CA
ATTACH;FMTTYPE=image/jpeg:https://lisaewilcox.com/wp-content/uploads/2021/09/Scare-Faire-2021-Victorville-CA-Lisa-Wilcox.jpg
END:VEVENT
BEGIN:VEVENT
DTSTART;VALUE=DATE:20211022
DTEND;VALUE=DATE:20211025
DTSTAMP:20260422T020304
CREATED:20210914T094516Z
LAST-MODIFIED:20210915T080905Z
UID:2282-1634860800-1635119999@lisaewilcox.com
SUMMARY:Spooky Empire 2021
DESCRIPTION:Spooky Empire\nOctober 22 -24\, 2021\nOrlando\, FL\nHyatt Regency Orlando\nWill Call Hours (Advance Ticket Holders):\nFriday 12pm (VIP 11am) – 8pm\nSaturday 10am (VIP 9am) – 7pm\nSunday 10am – 4pm\n\nRegistration Hours (Onsite purchase):\nFriday 1pm – 9pm\nSaturday 11am – 8pm\nSunday 11am – 5pm\n\nAutograph Room Hours:\nFriday 5pm-8pm\nSaturday 11am-7pm\nSunday 11am-5pm\n\nFor tickets\, visit: https://spookyempire.com/purchase-tickets/
URL:https://lisaewilcox.com/event/spooky-empire-2021
LOCATION:CA
ATTACH;FMTTYPE=image/jpeg:https://lisaewilcox.com/wp-content/uploads/2021/09/Spooky-Empire-Orlando-FL-2021-Lisa-Wilcox.jpg
END:VEVENT
END:VCALENDAR