BEGIN:VCALENDAR
VERSION:2.0
PRODID:-//Lisa E. Wilcox - ECPv6.15.15//NONSGML v1.0//EN
CALSCALE:GREGORIAN
METHOD:PUBLISH
X-WR-CALNAME:Lisa E. Wilcox
X-ORIGINAL-URL:https://lisaewilcox.com
X-WR-CALDESC:Events for Lisa E. Wilcox
REFRESH-INTERVAL;VALUE=DURATION:PT1H
X-Robots-Tag:noindex
X-PUBLISHED-TTL:PT1H
BEGIN:VTIMEZONE
TZID:America/New_York
BEGIN:DAYLIGHT
TZOFFSETFROM:-0500
TZOFFSETTO:-0400
TZNAME:EDT
DTSTART:20200308T070000
END:DAYLIGHT
BEGIN:STANDARD
TZOFFSETFROM:-0400
TZOFFSETTO:-0500
TZNAME:EST
DTSTART:20201101T060000
END:STANDARD
BEGIN:DAYLIGHT
TZOFFSETFROM:-0500
TZOFFSETTO:-0400
TZNAME:EDT
DTSTART:20210314T070000
END:DAYLIGHT
BEGIN:STANDARD
TZOFFSETFROM:-0400
TZOFFSETTO:-0500
TZNAME:EST
DTSTART:20211107T060000
END:STANDARD
BEGIN:DAYLIGHT
TZOFFSETFROM:-0500
TZOFFSETTO:-0400
TZNAME:EDT
DTSTART:20220313T070000
END:DAYLIGHT
BEGIN:STANDARD
TZOFFSETFROM:-0400
TZOFFSETTO:-0500
TZNAME:EST
DTSTART:20221106T060000
END:STANDARD
END:VTIMEZONE
BEGIN:VTIMEZONE
TZID:America/Chicago
BEGIN:DAYLIGHT
TZOFFSETFROM:-0600
TZOFFSETTO:-0500
TZNAME:CDT
DTSTART:20200308T080000
END:DAYLIGHT
BEGIN:STANDARD
TZOFFSETFROM:-0500
TZOFFSETTO:-0600
TZNAME:CST
DTSTART:20201101T070000
END:STANDARD
BEGIN:DAYLIGHT
TZOFFSETFROM:-0600
TZOFFSETTO:-0500
TZNAME:CDT
DTSTART:20210314T080000
END:DAYLIGHT
BEGIN:STANDARD
TZOFFSETFROM:-0500
TZOFFSETTO:-0600
TZNAME:CST
DTSTART:20211107T070000
END:STANDARD
BEGIN:DAYLIGHT
TZOFFSETFROM:-0600
TZOFFSETTO:-0500
TZNAME:CDT
DTSTART:20220313T080000
END:DAYLIGHT
BEGIN:STANDARD
TZOFFSETFROM:-0500
TZOFFSETTO:-0600
TZNAME:CST
DTSTART:20221106T070000
END:STANDARD
END:VTIMEZONE
BEGIN:VTIMEZONE
TZID:America/Los_Angeles
BEGIN:DAYLIGHT
TZOFFSETFROM:-0800
TZOFFSETTO:-0700
TZNAME:PDT
DTSTART:20200308T100000
END:DAYLIGHT
BEGIN:STANDARD
TZOFFSETFROM:-0700
TZOFFSETTO:-0800
TZNAME:PST
DTSTART:20201101T090000
END:STANDARD
BEGIN:DAYLIGHT
TZOFFSETFROM:-0800
TZOFFSETTO:-0700
TZNAME:PDT
DTSTART:20210314T100000
END:DAYLIGHT
BEGIN:STANDARD
TZOFFSETFROM:-0700
TZOFFSETTO:-0800
TZNAME:PST
DTSTART:20211107T090000
END:STANDARD
BEGIN:DAYLIGHT
TZOFFSETFROM:-0800
TZOFFSETTO:-0700
TZNAME:PDT
DTSTART:20220313T100000
END:DAYLIGHT
BEGIN:STANDARD
TZOFFSETFROM:-0700
TZOFFSETTO:-0800
TZNAME:PST
DTSTART:20221106T090000
END:STANDARD
END:VTIMEZONE
BEGIN:VEVENT
DTSTART;TZID=America/New_York:20210730T100000
DTEND;TZID=America/New_York:20210801T200000
DTSTAMP:20260422T224320
CREATED:20210403T184640Z
LAST-MODIFIED:20210403T184651Z
UID:2138-1627639200-1627848000@lisaewilcox.com
SUMMARY:Scares That Care Weekend
DESCRIPTION:Scares That Care Weekend \nWilliamsburg\, VA \nhttps://scaresthatcare.ticketleap.com/
URL:https://lisaewilcox.com/event/2138
END:VEVENT
BEGIN:VEVENT
DTSTART;TZID=America/Chicago:20210716T160000
DTEND;TZID=America/Chicago:20210719T170000
DTSTAMP:20260422T224320
CREATED:20210704T051021Z
LAST-MODIFIED:20210704T052335Z
UID:2201-1626451200-1626714000@lisaewilcox.com
SUMMARY:Crypticon Kansas City
DESCRIPTION:Crypticon Kansas City\nLOCATION & HOURS \n\nJuly 16 – 18\, 2021 \nAddress\nKCI Expo Center\n11730 N Ambassdor Dr.\nKansas City\, MO 64153 \nVIP Hours\nFriday: 4:00PM–10:00PM*\nSaturday: 11:00AM–8:00PM*\nSunday: 11:00AM-5:00PM \nRegular Hours\nFriday: 4:30PM–10:00PM*\nSaturday: 11:30AM–8:00PM*\nSunday: 11:30AM-5:00PM \n* Indicates After Hour Events \nFor Tickets\, visit \n\nhttps://www.crypticonkansascity.com/
URL:https://lisaewilcox.com/event/crypticon
ATTACH;FMTTYPE=image/jpeg:https://lisaewilcox.com/wp-content/uploads/2021/07/Crypticon-Kansas-City-MO-2021-Lisa-Wilcox-banner.jpg
END:VEVENT
BEGIN:VEVENT
DTSTART;TZID=America/Los_Angeles:20210625T100000
DTEND;TZID=America/Los_Angeles:20210627T200000
DTSTAMP:20260422T224320
CREATED:20210403T183912Z
LAST-MODIFIED:20210403T184240Z
UID:2133-1624615200-1624824000@lisaewilcox.com
SUMMARY:Albuquerque Comic Con
DESCRIPTION:Albuquerque Comic Con \nAlbuquerque\, New Mexico \nFor More Info \nhttps://albuquerquecomiccon.com/ \n 
URL:https://lisaewilcox.com/event/albuquerque-comic-con
END:VEVENT
BEGIN:VEVENT
DTSTART;TZID=America/New_York:20210430T100000
DTEND;TZID=America/New_York:20210502T190000
DTSTAMP:20260422T224320
CREATED:20210403T182647Z
LAST-MODIFIED:20210408T022934Z
UID:2124-1619776800-1619982000@lisaewilcox.com
SUMMARY:Metrotham Autograph Show Convention
DESCRIPTION:Metrotham Autograph Show Convention in Chattanooga\, TN \n\nMulti Fandom Convention\nApril 30th-May 2nd\, 2021\n\n\n1150 Carter St\, Chattanooga\, TN 37402  \n(423) 714-0008 \nCheck website for official convention hours \nFor Tickets  \n\nhttps://metrothamcon.com/pre-registration \nFor Hotel Information  \nhttps://metrothamcon.com/hotels \nFor more info \n https://metrothamcon.com/home
URL:https://lisaewilcox.com/event/metrotham-autograph-show-convention
ATTACH;FMTTYPE=image/jpeg:https://lisaewilcox.com/wp-content/uploads/2021/04/metroham-con-april-30-2021-lisa-wilcox.jpg
END:VEVENT
BEGIN:VEVENT
DTSTART;TZID=America/Los_Angeles:20210403T130000
DTEND;TZID=America/Los_Angeles:20210403T160000
DTSTAMP:20260422T224320
CREATED:20210326T051702Z
LAST-MODIFIED:20210326T052902Z
UID:2109-1617454800-1617465600@lisaewilcox.com
SUMMARY:Wizard World Signature Event Series Zoom Noes 5
DESCRIPTION:Wizard World Virtual Experiences presents A Nightmare On Elm Street 5! We’re bringing you Lisa Wilcox\, Kelly Jo Minter\, Danny Hassel\, Erika Anderson and Beatrice Boepple from the cast of A Nightmare On Elm Street 5: The Dream Child – featuring a Live Q&A\, Live Video Chats\, Recorded Video Messages\, Virtual Photo Ops and Autographs!\n\n\nTICKET INFORMATION\n\nPaid Live Q&A: Take part in an interactive and moderated live video Q&A with our celebrity guests on April 3 at 1pm PT / 4pm ET. You must have a Horror Signature Series ticket to view this event panel.\n\n\nFor information\, visit: https://wizardworldvault.com/collections/a-nightmare-on-elm-street-5-april-3-10
URL:https://lisaewilcox.com/event/wizard-world-signature-event-series-zoom-noes-5
LOCATION:World Wizard Vault
ATTACH;FMTTYPE=image/jpeg:https://lisaewilcox.com/wp-content/uploads/2021/03/wizard-world-signatures-April-3-2021-Lisa-Wilcox.jpg
END:VEVENT
BEGIN:VEVENT
DTSTART;TZID=America/Los_Angeles:20210327T130000
DTEND;TZID=America/Los_Angeles:20210327T160000
DTSTAMP:20260422T224320
CREATED:20210326T045321Z
LAST-MODIFIED:20210326T051240Z
UID:2100-1616850000-1616860800@lisaewilcox.com
SUMMARY:Wizard World Signature Event Series Zoom Noes 4
DESCRIPTION:Wizard World Virtual Experiences presents A Nightmare On Elm Street 4! We’re bringing you Danny Hassel\, Andras Jones\, Tuesday Knight\, Toy Newkirk\, Brooke Thiess and Lisa Wilcox from the cast of A Nightmare On Elm Street 4: The Dream Master – featuring a Live Q&A\, Live Video Chats\, Recorded Video Messages\, Virtual Photo Ops and Autographs!\n\n\nTICKET INFORMATION\n\nPaid Live Q&A: Take part in an interactive and moderated live video Q&A with our celebrity guests on March 27 at 1pm PT / 4pm ET. You must have a Horror Signature Series ticket to view this event panel.\n\n\nFor information\, visit: https://wizardworldvault.com/collections/a-nightmare-on-elm-street-4-march-27-april-3
URL:https://lisaewilcox.com/event/wizard-world-signature-event-series-zoom-noes-4
ATTACH;FMTTYPE=image/jpeg:https://lisaewilcox.com/wp-content/uploads/2021/03/wizard-world-signatures-March-27-2021-Lisa-Wilcox.jpg
END:VEVENT
END:VCALENDAR